BEGIN:VCALENDAR
VERSION:2.0
PRODID:-//Intand Corporation//Tandem//EN
METHOD:PUBLISH
BEGIN:VEVENT
DTSTAMP:20260421T113330Z
DTSTART:20190817T140000Z
DTEND:20190817T190000Z
TRANSP:TRANSPARENT
PRIORITY:0
SUMMARY:Varsity Volleyball vs. Margaretta/Clyde
LOCATION:Junior High Gym\, Main Gym
DESCRIPTION:Groups:\nNew Riegel High School Volleyball JV\nNew Riegel High
  School Volleyball Varsity\n\nSchools:\nNew Riegel School\n\nLocations:\nJ
 unior High Gym\nMain Gym\n\n
URL;VALUE=URI:http://newriegel.tandem.co/index.php?type=view&action=event&
 id=21980
CREATED:20160916T142636Z
LAST-MODIFIED:20171206T183126Z
UID:event-21980-newriegel@intand.com
END:VEVENT
END:VCALENDAR
