BEGIN:VCALENDAR
VERSION:2.0
PRODID:-//Intand Corporation//Tandem//EN
METHOD:PUBLISH
BEGIN:VEVENT
DTSTAMP:20260424T073117Z
DTSTART:20270423T210000Z
DTEND:20270423T233000Z
TRANSP:TRANSPARENT
PRIORITY:0
SUMMARY:Varsity Baseball/Softball at Bucyrus
LOCATION:Bucyrus High School
DESCRIPTION:Groups:\nNew Riegel High School Softball Varsity\nNew Riegel H
 igh School Baseball Boys Varsity\n\nSchools:\nNew Riegel School\nBucyrus H
 igh School\n\nLocation:\nBucyrus High School\n\n
URL;VALUE=URI:http://newriegel.tandem.co/index.php?type=view&action=event&
 id=51520
CREATED:20250403T181511Z
LAST-MODIFIED:20250403T181511Z
UID:event-51520-newriegel@intand.com
END:VEVENT
END:VCALENDAR
