BEGIN:VCALENDAR
VERSION:2.0
PRODID:-//Intand Corporation//Tandem//EN
METHOD:PUBLISH
BEGIN:VEVENT
DTSTAMP:20260419T194054Z
DTSTART:20270430T210000Z
DTEND:20270430T233000Z
TRANSP:TRANSPARENT
PRIORITY:0
SUMMARY:Varsity Baseball/Softball vs. Buckeye Central
LOCATION:Baseball Field\, Softball Field
DESCRIPTION:Groups:\nNew Riegel High School Softball Varsity\nNew Riegel H
 igh School Baseball Boys Varsity\n\nSchools:\nNew Riegel School\n\nLocatio
 ns:\nBaseball Field\nSoftball Field\n\n
URL;VALUE=URI:http://newriegel.tandem.co/index.php?type=view&action=event&
 id=51534
CREATED:20250403T182152Z
LAST-MODIFIED:20250403T182152Z
UID:event-51534-newriegel@intand.com
END:VEVENT
END:VCALENDAR
