BEGIN:VCALENDAR
VERSION:2.0
PRODID:-//Intand Corporation//Tandem//EN
METHOD:PUBLISH
BEGIN:VEVENT
DTSTAMP:20260425T225613Z
DTSTART:20260418T140000Z
DTEND:20260418T160000Z
TRANSP:TRANSPARENT
PRIORITY:0
SUMMARY:Varsity Baseball @ Carey
LOCATION:CAREY HIGH SCHOOL
DESCRIPTION:Groups:\nNew Riegel High School Baseball Boys Varsity\n\nSchoo
 ls:\nNew Riegel School\nCAREY HIGH SCHOOL\n\nLocation:\nCAREY HIGH SCHOOL\
 n\n
URL;VALUE=URI:http://newriegel.tandem.co/index.php?type=view&action=event&
 id=53096
CREATED:20250827T193108Z
LAST-MODIFIED:20260414T181459Z
UID:event-53096-newriegel@intand.com
END:VEVENT
END:VCALENDAR
