BEGIN:VCALENDAR
VERSION:2.0
PRODID:-//Intand Corporation//Tandem//EN
METHOD:PUBLISH
BEGIN:VEVENT
DTSTAMP:20260424T072640Z
DTSTART:20260504T210000Z
DTEND:20260504T230000Z
TRANSP:TRANSPARENT
PRIORITY:0
SUMMARY:Varsity Baseball/Softball at Woodmore
LOCATION:WOODMORE ELEMENTARY
DESCRIPTION:Groups:\nNew Riegel High School Softball Varsity\nNew Riegel H
 igh School Baseball Boys Varsity\n\nSchools:\nWOODMORE ELEMENTARY\nNew Rie
 gel School\n\nLocation:\nWOODMORE ELEMENTARY\n\n
URL;VALUE=URI:http://newriegel.tandem.co/index.php?type=view&action=event&
 id=53100
CREATED:20250827T194015Z
LAST-MODIFIED:20250827T194015Z
UID:event-53100-newriegel@intand.com
END:VEVENT
END:VCALENDAR
