BEGIN:VCALENDAR
VERSION:2.0
PRODID:-//Intand Corporation//Tandem//EN
METHOD:PUBLISH
BEGIN:VEVENT
DTSTAMP:20260425T224832Z
DTSTART:20260420T103000Z
DTEND:20260420T113000Z
TRANSP:TRANSPARENT
PRIORITY:0
SUMMARY:Boys Basketball Open Shooting 
LOCATION:Main Gym
DESCRIPTION:Open shooting for boys basketball players\n\nGroups:\nNew Rieg
 el High School Basketball Boys JV\nNew Riegel High School Basketball Boys 
 Varsity\nNew Riegel High School Basketball Freshmen\nJunior High Boys Bask
 etball\n\nSchools:\nNew Riegel School\n\nLocation:\nMain Gym\n\n
URL;VALUE=URI:http://newriegel.tandem.co/index.php?type=view&action=event&
 id=55801
CREATED:20260420T003019Z
LAST-MODIFIED:20260420T125705Z
UID:event_request-55801-newriegel@intand.com
END:VEVENT
END:VCALENDAR
