BEGIN:VCALENDAR
VERSION:2.0
PRODID:-//Intand Corporation//Tandem//EN
METHOD:PUBLISH
BEGIN:VEVENT
DTSTAMP:20260419T171638Z
DTSTART:20210505T121500Z
DTEND:20210505T190000Z
TRANSP:TRANSPARENT
PRIORITY:0
SUMMARY:Junior High Quiz Bowl
LOCATION:Old Fort High School\, Hopewell-Louden 
DESCRIPTION:Groups:\nQuiz Bowl\n\nSchools:\nOld Fort High School\nNew Rieg
 el School\nHopewell-Louden \n\nLocations:\nOld Fort High School\nHopewell-
 Louden \n\n
URL;VALUE=URI:https://newriegel.tandem.co/index.php?type=view&action=event
 &id=37144
CREATED:20210422T124444Z
LAST-MODIFIED:20210422T154745Z
UID:event_request-37144-newriegel@intand.com
END:VEVENT
END:VCALENDAR
