BEGIN:VCALENDAR
VERSION:2.0
PRODID:-//Intand Corporation//Tandem//EN
METHOD:PUBLISH
BEGIN:VEVENT
DTSTAMP:20260421T054957Z
DTSTART:20210910T203000Z
DTEND:20210910T220000Z
TRANSP:TRANSPARENT
PRIORITY:0
SUMMARY:7th & 8th Grade Volleyball Practice
LOCATION:Junior High Gym
DESCRIPTION:Groups:\nNew Riegel Junior High Volleyball\n\nSchools:\nNew Ri
 egel School\n\nLocation:\nJunior High Gym\n\n
URL;VALUE=URI:https://newriegel.tandem.co/index.php?type=view&action=event
 &id=37656
CREATED:20210714T190452Z
LAST-MODIFIED:20210803T182501Z
UID:event_request-37656-newriegel@intand.com
END:VEVENT
END:VCALENDAR
