BEGIN:VCALENDAR
VERSION:2.0
PRODID:-//Intand Corporation//Tandem//EN
METHOD:PUBLISH
BEGIN:VEVENT
DTSTAMP:20260419T193751Z
DTSTART:20211202T220000Z
DTEND:20211203T000000Z
TRANSP:TRANSPARENT
PRIORITY:0
SUMMARY:High School Cheerleading Practice
LOCATION:Band Room
DESCRIPTION:Groups:\nNew Riegel High School Cheer\n\nSchools:\nNew Riegel 
 School\n\nLocation:\nBand Room\n\nWe will be going to support the Jr. High
  cheerleaders and watching the first game before going over to high school
  for practice\n\n
URL;VALUE=URI:https://newriegel.tandem.co/index.php?type=view&action=event
 &id=38600
CREATED:20211014T174717Z
LAST-MODIFIED:20211125T200935Z
UID:event_request-38600-newriegel@intand.com
END:VEVENT
END:VCALENDAR
