BEGIN:VCALENDAR
VERSION:2.0
PRODID:-//Intand Corporation//Tandem//EN
METHOD:PUBLISH
BEGIN:VEVENT
DTSTAMP:20260421T055120Z
DTSTART:20260507T190000Z
DTEND:20260507T200000Z
TRANSP:TRANSPARENT
PRIORITY:0
SUMMARY:Connection Club
LOCATION:Room 209
DESCRIPTION:Students in grades 3-5 may sign up to participate in after sch
 ool activities to promote connections with peers while working on importan
 t social skills.\n\n\nGroups:\nElementary\nNew Riegel Elementary School Gr
 ade 3\nNew Riegel Elementary School Grade 4\nNew Riegel Elementary School 
 Grade 5\n\nSchools:\nNew Riegel School\n\nLocation:\nRoom 209\n\nSuperviso
 rs:\nHeather Schalk\n\n
URL;VALUE=URI:https://newriegel.tandem.co/index.php?type=view&action=event
 &id=53640
CREATED:20251001T175847Z
LAST-MODIFIED:20251008T195356Z
UID:event-53640-newriegel@intand.com
END:VEVENT
END:VCALENDAR
