BEGIN:VCALENDAR
VERSION:2.0
PRODID:-//Intand Corporation//Tandem//EN
METHOD:PUBLISH
BEGIN:VEVENT
DTSTAMP:20260421T055056Z
DTSTART;VALUE=DATE:20260505
DTEND;VALUE=DATE:20260506
TRANSP:TRANSPARENT
PRIORITY:0
SUMMARY:Right to Read Week
LOCATION:New Riegel Elementary School
DESCRIPTION:Groups:\nNew Riegel Elementary School Grade 1\nNew Riegel Elem
 entary School Grade 2\nNew Riegel Elementary School Grade 3\nNew Riegel El
 ementary School Grade 4\nNew Riegel Elementary School Grade 5\nNew Riegel 
 Elementary School Kindergarten\n\nSchools:\nNew Riegel School\n\nLocation:
 \nNew Riegel Elementary School\n\n
URL;VALUE=URI:https://newriegel.tandem.co/index.php?type=view&action=event
 &id=55258
CREATED:20260211T173432Z
LAST-MODIFIED:20260211T173432Z
UID:event-55258-newriegel@intand.com
END:VEVENT
END:VCALENDAR
