BEGIN:VCALENDAR
VERSION:2.0
PRODID:-//Intand Corporation//Tandem//EN
METHOD:PUBLISH
BEGIN:VEVENT
DTSTAMP:20260426T014452Z
DTSTART:20260926T223000Z
DTEND:20260927T013000Z
TRANSP:TRANSPARENT
PRIORITY:0
SUMMARY:Clyde Band Showcase
LOCATION:Clyde High School
DESCRIPTION:New Riegel Marching Band and Color Guard perform at the Clyde 
 Band Showcase at Clyde High School.\n\n\nDepart: 5:15 pm\nReturn: 10:30 pm
 \n\nGroups:\nColor Guard\nNew Riegel Middle School Band\nNew Riegel High S
 chool Band\n\nSchools:\nNew Riegel School\n\nLocation:\nClyde High School\
 n\n
URL;VALUE=URI:https://newriegel.tandem.co/index.php?type=view&action=event
 &id=55338
CREATED:20260224T124400Z
LAST-MODIFIED:20260224T141833Z
UID:event_request-55338-newriegel@intand.com
END:VEVENT
END:VCALENDAR
